BEGIN:VCALENDAR
VERSION:2.0
PRODID:-//wp-events-plugin.com//7.2.3.1//EN
BEGIN:VEVENT
UID:355@hebronnechamber.org
DTSTART;TZID=America/Chicago:20260514T150000
DTEND;TZID=America/Chicago:20260514T190000
DTSTAMP:20260423T180818Z
URL:https://hebronnechamber.org/events/backyard-connect-fest/
SUMMARY:Backyard Connect Fest
DESCRIPTION:
CATEGORIES:Special
LOCATION:Backyard Bricks\, 216 Lincoln Ave\, Hebron\, Nebraska\, 68370\, Un
 ited States
X-APPLE-STRUCTURED-LOCATION;VALUE=URI;X-ADDRESS=216 Lincoln Ave\, Hebron\, 
 Nebraska\, 68370\, United States;X-APPLE-RADIUS=100;X-TITLE=Backyard Brick
 s:geo:0,0
END:VEVENT
BEGIN:VTIMEZONE
TZID:America/Chicago
X-LIC-LOCATION:America/Chicago
BEGIN:DAYLIGHT
DTSTART:20260308T030000
TZOFFSETFROM:-0600
TZOFFSETTO:-0500
TZNAME:CDT
END:DAYLIGHT
END:VTIMEZONE
END:VCALENDAR